2317.24
0.000000000000
0.000000000000
-2316
1751631.8
9820506
